BEGIN:VCALENDAR
VERSION:2.0
PRODID:-//Eventin//Event Calendar//EN
CALSCALE:GREGORIAN
METHOD:PUBLISH
BEGIN:VEVENT
UID:feafaaa6d9c92c8a0bedffffff8720ba@tff.andreas-huber.at
SUMMARY:TourismFastForward 2026
DESCRIPTION:Tourism REIMAGINED – Transformation durch Technologie & globa
 le Reisetrends\nAktuelle Infos\, Speaker Profile und Details zu den Vorträ
 gen via LINKEDIN TFF-Seite oder in der TFF LinkedIn-Group.\nTourismFastFor
 ward die Konferenz zum aktiven Netzwerken mit  Branchenexperten aus den Be
 reichen Hotellerie\, Bergbahnen\, Destinationsmanagement\, IT/Travel-Techno
 logie\, Marketing\, Consulting und Wissenschaft. Im Fokus steht die Digital
 isierung im Tourismus und innovative Technologien im Tourismuskontext. Expe
 rtenInnen und Unternehmen präsentieren neueste Trends\, Technologien und I
 nnovationen als auch heimische Praxisbeispiele und Erfolgsprojekte – gren
 züberschreitend und interdisziplinär.
LOCATION:Kurhaus Hall in Tirol
DTSTAMP:20260419T143440Z
DTSTART:20260902T060000Z
DTEND:20260903T150000Z
END:VEVENT
END:VCALENDAR
